BEGIN:VCALENDAR
VERSION:2.0
PRODID:-//Philadelphia Christian - ECPv6.15.10//NONSGML v1.0//EN
CALSCALE:GREGORIAN
METHOD:PUBLISH
X-WR-CALNAME:Philadelphia Christian
X-ORIGINAL-URL:https://philadelphiacc.org
X-WR-CALDESC:Events for Philadelphia Christian
REFRESH-INTERVAL;VALUE=DURATION:PT1H
X-Robots-Tag:noindex
X-PUBLISHED-TTL:PT1H
BEGIN:VTIMEZONE
TZID:UTC
BEGIN:STANDARD
TZOFFSETFROM:+0000
TZOFFSETTO:+0000
TZNAME:UTC
DTSTART:20230101T000000
END:STANDARD
END:VTIMEZONE
BEGIN:VEVENT
DTSTART;TZID=UTC:20241001T190000
DTEND;TZID=UTC:20241001T210000
DTSTAMP:20260421T173329
CREATED:20240926T224944Z
LAST-MODIFIED:20240926T224944Z
UID:24533-1727809200-1727816400@philadelphiacc.org
SUMMARY:Tuesday Night Bible Study Lafayette
DESCRIPTION:We warmly invite all local families to gather with us every Tuesday night at 7 PM for an in-person Bible Study that will uplift and recharge your spirit. This is a special time to connect with the body of Christ and dive deep into God’s Word to receive the guidance you need for the rest of your week! \nPlease Note: Tuesday Night Bible Studies are NOT live-streamed\, so be sure to join us in person to experience the power and fellowship together! \nWe can’t wait to see you there!
URL:https://philadelphiacc.org/event/tuesday-night-bible-study-lafayette/
CATEGORIES:Church Events
ATTACH;FMTTYPE=image/jpeg:https://philadelphiacc.org/wp-content/uploads/2024/09/Tuesday-Bible-Study-Lafayette.jpg
END:VEVENT
BEGIN:VEVENT
DTSTART;TZID=UTC:20250215T083000
DTEND;TZID=UTC:20250215T120000
DTSTAMP:20260421T173329
CREATED:20250211T215410Z
LAST-MODIFIED:20250221T021838Z
UID:24810-1739608200-1739620800@philadelphiacc.org
SUMMARY:Philadelphia of Dallas Saturday Service
DESCRIPTION:Join us every Saturday Morning for an inspiring and uplifting service at our Dallas location with Pastor Brice Calais! We warmly invite all our Dallas-Fort Worth families to gather with us as we dive deep into the Word of God and grow together in faith and fellowship. \n📅 When: Saturdays at 8:30AM\n📍 Where: 3269 Independence Pkwy\, Plano\, TX \nCome expecting powerful teaching\, meaningful discussion\, and a welcoming community. Whether you’re new or have been with us for a while\, there’s always a place for you. Don’t miss out—see you this Saturday!
URL:https://philadelphiacc.org/event/philadelphia-of-dallas-saturday-service/
CATEGORIES:Church Events
ATTACH;FMTTYPE=image/jpeg:https://philadelphiacc.org/wp-content/uploads/2025/02/NEW-DAY-TIME-DALLAS-NOW.jpg
END:VEVENT
BEGIN:VEVENT
DTSTART;TZID=UTC:20240928T093000
DTEND;TZID=UTC:20240928T120000
DTSTAMP:20260421T173329
CREATED:20240926T223832Z
LAST-MODIFIED:20240926T223832Z
UID:24529-1727515800-1727524800@philadelphiacc.org
SUMMARY:Join Us Live in Atlanta Every Saturday Morning!
DESCRIPTION:Start your weekend in a meaningful way by joining us at Philadelphia Christian Church of Atlanta for our live Saturday morning services at 9:30 AM. It’s a perfect time to gather with family and friends to worship\, connect\, and grow in faith together. \nOur services feature uplifting worship\, powerful sermons\, and a welcoming community that’s excited to embrace new members and guests alike. Whether you’re a lifelong churchgoer or looking to explore your faith for the first time\, you’ll find a home with us. \nWhere: 1151 Hammond Dr. NE\, Atlanta\, GA 30346 \nWhen: Every Saturday at 9:30 AM \nCome and experience the warmth and spirit of our community. We look forward to seeing you there!
URL:https://philadelphiacc.org/event/join-us-live-in-atlanta-every-saturday-morning/
CATEGORIES:Church Events
ATTACH;FMTTYPE=image/jpeg:https://philadelphiacc.org/wp-content/uploads/2024/09/NEW-Philadelphia-LOCATION-ATL-SAT-PROMO-scaled.jpg
END:VEVENT
BEGIN:VEVENT
DTSTART;TZID=UTC:20250405T173000
DTEND;TZID=UTC:20250406T173000
DTSTAMP:20260421T173329
CREATED:20250304T214726Z
LAST-MODIFIED:20250401T212102Z
UID:24830-1743874200-1743960600@philadelphiacc.org
SUMMARY:Lunar Sabbath Calendar Observation 🌙
DESCRIPTION:Join us for a sacred time of rest and worship\, as we honor the Lunar Sabbath according to the lunar cycle. The next Shabbat begins at sunset on Saturday April 5th and concludes at sunset on Sunday\, April 6th\, for 4 weeks. \nThis is a divine time set apart for reflection\, worship\, and renewal as we align ourselves with the natural rhythm of God’s creation. \nTake this opportunity to rest\, reconnect with God\, and experience peace in His presence. \n📅 Shabbat Dates: \n🕰️ From: Sunset\, Saturday 4/5  🕰️ Until: Sunset\, Sunday 4/6 \n🕰️ From: Sunset\, Saturday 4/12  🕰️ Until: Sunset\, Sunday 4/13 \n🕰️ From: Sunset\, Saturday 4/19  🕰️ Until: Sunset\, Sunday 4/20 \n🕰️ From: Sunset\, Saturday 4/26  🕰️ Until: Sunset\, Sunday 4/27 \n 
URL:https://philadelphiacc.org/event/lunar-sabbath-calendar-observation-%f0%9f%8c%99-2-2/
CATEGORIES:Church Events
ATTACH;FMTTYPE=image/jpeg:https://philadelphiacc.org/wp-content/uploads/2025/03/Shabbat-April-scaled.jpg
END:VEVENT
BEGIN:VEVENT
DTSTART;TZID=UTC:20241001T190000
DTEND;TZID=UTC:20241001T210000
DTSTAMP:20260421T173329
CREATED:20240926T224944Z
LAST-MODIFIED:20240926T224944Z
UID:24533-1727809200-1727816400@philadelphiacc.org
SUMMARY:Tuesday Night Bible Study Lafayette
DESCRIPTION:We warmly invite all local families to gather with us every Tuesday night at 7 PM for an in-person Bible Study that will uplift and recharge your spirit. This is a special time to connect with the body of Christ and dive deep into God’s Word to receive the guidance you need for the rest of your week! \nPlease Note: Tuesday Night Bible Studies are NOT live-streamed\, so be sure to join us in person to experience the power and fellowship together! \nWe can’t wait to see you there!
URL:https://philadelphiacc.org/event/tuesday-night-bible-study-lafayette/
CATEGORIES:Church Events
ATTACH;FMTTYPE=image/jpeg:https://philadelphiacc.org/wp-content/uploads/2024/09/Tuesday-Bible-Study-Lafayette.jpg
END:VEVENT
BEGIN:VEVENT
DTSTART;TZID=UTC:20250410T190000
DTEND;TZID=UTC:20250410T220000
DTSTAMP:20260421T173329
CREATED:20250401T213353Z
LAST-MODIFIED:20250409T210913Z
UID:24920-1744311600-1744322400@philadelphiacc.org
SUMMARY:Philadelphia of Houston Thursday Night Bible Study
DESCRIPTION:📖 Thursday Night Bible Study – Philadelphia of HoustonJoin us every Thursday at 7PM for an in-depth\, spirit-filled Bible Study at our Philadelphia of Houston location! \nCome ready to grow in the Word\, build community\, and experience powerful teaching that will strengthen your walk with God. Whether you’re new to the faith or looking to go deeper\, there’s a seat for you. \n📍 12155 Shadow Creek Pkwy\, Pearland\, TX 77584🕖 Every Thursday | 7:00PM \nBring your Bible\, bring a friend\, and come expecting!
URL:https://philadelphiacc.org/event/philadelphia-of-houston-bible-study/
CATEGORIES:Church Events
ATTACH;FMTTYPE=image/jpeg:https://philadelphiacc.org/wp-content/uploads/2025/04/Philadelphia-Of-Houston-2-Thursday-Nights-scaled.jpg
END:VEVENT
BEGIN:VEVENT
DTSTART;VALUE=DATE:20250412
DTEND;VALUE=DATE:20250421
DTSTAMP:20260421T173329
CREATED:20250114T001126Z
LAST-MODIFIED:20250417T221533Z
UID:24744-1744416000-1745193599@philadelphiacc.org
SUMMARY:4th Annual Passover 2025
DESCRIPTION:🌟 4th Annual Passover Celebration – April 12-20\, 2025 🌟 \nJoin us as we commemorate the Passover\, reflecting on God’s deliverance and provision\, and celebrating our faith as a community! This week-long event is filled with powerful worship\, engaging teachings\, fellowship\, and joyful festivities. \n🗓️ Event Schedule: \n4/13 Sunday Service: A powerful start to our Passover celebration with an anointed worship and word. \n4/15 Tuesday @7pm – Special Passover Bible Study & Passover Meal: Dive deeper into God’s Word during this special Passover study and share the Passover meal together as a church. \n4/16 Wednesday @7pm – Word Explosion: An evening of classes for adults\, kids\, and couples. \n4/17 Thursday @8pm – Ladies Sleep Over or Late Night Hang Out \n4/18 Friday: \n– Golf Day in the AM for guys ⛳ @8am | 1121 Mudd Ave\, Lafayette\, LA 70501\, United States \n– Ruth The Musical Stage Play Doors Open @6pm \n4/19 Saturday: \n@9am – Black Wall Street 🖤 – A celebration of culture and entrepreneurship in the morning. \n@11am – Cook Off Contest – Taste test amazing dishes and judge who is the best chef for Passover 2025 \n@6pm – Singles Social Night – Meet amazing like minded Hebrews and enjoy a night of fun\, laughter\, and games! \n4/20 Sunday – Worship Service: Conclude Passover week with a powerful service that lifts up the name of the Most High! \nHotel Blocked Rooms:\n\n🏨 Hampton Inn & Suites By Hilton\nFor Passover 2025\, Hampton Inn & Suites by Hilton has Blocked rooms for dates Wednesday April 16th – Sunday April 20th. If you need earlier days please email Gina Wilks at sales.lfths@gmail.com\n \n✨ Whether you join us in person or online\, this is an event you don’t want to miss. Save the dates and celebrate with us as we honor the significance of Passover and the freedom we have in Christ! \nREGISTER NOW! \nPRE-ORDER PASSOVER T-SHIRTS TODAY! \n📍 Location: Philadelphia Christian Church\, Lafayette\, LA 70506\n#Passover2025 #PCCFamily #SpeakLifeMonth #FaithFellowshipFreedom
URL:https://philadelphiacc.org/event/4th-annual-passover-2025/
CATEGORIES:Church Events
ATTACH;FMTTYPE=image/jpeg:https://philadelphiacc.org/wp-content/uploads/2025/01/Passover-2025_Final_DATES.jpg
END:VEVENT
BEGIN:VEVENT
DTSTART;TZID=UTC:20250215T083000
DTEND;TZID=UTC:20250215T120000
DTSTAMP:20260421T173329
CREATED:20250211T215410Z
LAST-MODIFIED:20250221T021838Z
UID:24810-1739608200-1739620800@philadelphiacc.org
SUMMARY:Philadelphia of Dallas Saturday Service
DESCRIPTION:Join us every Saturday Morning for an inspiring and uplifting service at our Dallas location with Pastor Brice Calais! We warmly invite all our Dallas-Fort Worth families to gather with us as we dive deep into the Word of God and grow together in faith and fellowship. \n📅 When: Saturdays at 8:30AM\n📍 Where: 3269 Independence Pkwy\, Plano\, TX \nCome expecting powerful teaching\, meaningful discussion\, and a welcoming community. Whether you’re new or have been with us for a while\, there’s always a place for you. Don’t miss out—see you this Saturday!
URL:https://philadelphiacc.org/event/philadelphia-of-dallas-saturday-service/
CATEGORIES:Church Events
ATTACH;FMTTYPE=image/jpeg:https://philadelphiacc.org/wp-content/uploads/2025/02/NEW-DAY-TIME-DALLAS-NOW.jpg
END:VEVENT
BEGIN:VEVENT
DTSTART;TZID=UTC:20240928T093000
DTEND;TZID=UTC:20240928T120000
DTSTAMP:20260421T173329
CREATED:20240926T223832Z
LAST-MODIFIED:20240926T223832Z
UID:24529-1727515800-1727524800@philadelphiacc.org
SUMMARY:Join Us Live in Atlanta Every Saturday Morning!
DESCRIPTION:Start your weekend in a meaningful way by joining us at Philadelphia Christian Church of Atlanta for our live Saturday morning services at 9:30 AM. It’s a perfect time to gather with family and friends to worship\, connect\, and grow in faith together. \nOur services feature uplifting worship\, powerful sermons\, and a welcoming community that’s excited to embrace new members and guests alike. Whether you’re a lifelong churchgoer or looking to explore your faith for the first time\, you’ll find a home with us. \nWhere: 1151 Hammond Dr. NE\, Atlanta\, GA 30346 \nWhen: Every Saturday at 9:30 AM \nCome and experience the warmth and spirit of our community. We look forward to seeing you there!
URL:https://philadelphiacc.org/event/join-us-live-in-atlanta-every-saturday-morning/
CATEGORIES:Church Events
ATTACH;FMTTYPE=image/jpeg:https://philadelphiacc.org/wp-content/uploads/2024/09/NEW-Philadelphia-LOCATION-ATL-SAT-PROMO-scaled.jpg
END:VEVENT
BEGIN:VEVENT
DTSTART;TZID=UTC:20250405T173000
DTEND;TZID=UTC:20250406T173000
DTSTAMP:20260421T173329
CREATED:20250304T214726Z
LAST-MODIFIED:20250401T212102Z
UID:24830-1743874200-1743960600@philadelphiacc.org
SUMMARY:Lunar Sabbath Calendar Observation 🌙
DESCRIPTION:Join us for a sacred time of rest and worship\, as we honor the Lunar Sabbath according to the lunar cycle. The next Shabbat begins at sunset on Saturday April 5th and concludes at sunset on Sunday\, April 6th\, for 4 weeks. \nThis is a divine time set apart for reflection\, worship\, and renewal as we align ourselves with the natural rhythm of God’s creation. \nTake this opportunity to rest\, reconnect with God\, and experience peace in His presence. \n📅 Shabbat Dates: \n🕰️ From: Sunset\, Saturday 4/5  🕰️ Until: Sunset\, Sunday 4/6 \n🕰️ From: Sunset\, Saturday 4/12  🕰️ Until: Sunset\, Sunday 4/13 \n🕰️ From: Sunset\, Saturday 4/19  🕰️ Until: Sunset\, Sunday 4/20 \n🕰️ From: Sunset\, Saturday 4/26  🕰️ Until: Sunset\, Sunday 4/27 \n 
URL:https://philadelphiacc.org/event/lunar-sabbath-calendar-observation-%f0%9f%8c%99-2-2/
CATEGORIES:Church Events
ATTACH;FMTTYPE=image/jpeg:https://philadelphiacc.org/wp-content/uploads/2025/03/Shabbat-April-scaled.jpg
END:VEVENT
BEGIN:VEVENT
DTSTART;TZID=UTC:20241001T190000
DTEND;TZID=UTC:20241001T210000
DTSTAMP:20260421T173329
CREATED:20240926T224944Z
LAST-MODIFIED:20240926T224944Z
UID:24533-1727809200-1727816400@philadelphiacc.org
SUMMARY:Tuesday Night Bible Study Lafayette
DESCRIPTION:We warmly invite all local families to gather with us every Tuesday night at 7 PM for an in-person Bible Study that will uplift and recharge your spirit. This is a special time to connect with the body of Christ and dive deep into God’s Word to receive the guidance you need for the rest of your week! \nPlease Note: Tuesday Night Bible Studies are NOT live-streamed\, so be sure to join us in person to experience the power and fellowship together! \nWe can’t wait to see you there!
URL:https://philadelphiacc.org/event/tuesday-night-bible-study-lafayette/
CATEGORIES:Church Events
ATTACH;FMTTYPE=image/jpeg:https://philadelphiacc.org/wp-content/uploads/2024/09/Tuesday-Bible-Study-Lafayette.jpg
END:VEVENT
BEGIN:VEVENT
DTSTART;TZID=UTC:20250418T080000
DTEND;TZID=UTC:20250418T120000
DTSTAMP:20260421T173329
CREATED:20250417T203618Z
LAST-MODIFIED:20250417T203618Z
UID:24956-1744963200-1744977600@philadelphiacc.org
SUMMARY:Men's Golf Tournament Passover 2025
DESCRIPTION:Gentlemen\, \nOur Men’s Golf Tournament is happening during our Passover 2025 celebration and tee time is Friday\, April 18th at 8:00 AM sharp! \nThis tournament is designed for serious golfers only — whether you’re a beginner looking to learn or a seasoned pro ready to compete\, we need to know your skill level. \n📋 Please click the form button below to let us know: \nAre you planning to play or just spectate? \nWhat’s your skill level? (Beginner\, Intermediate\, or Advanced) \nLet’s make this tournament one to remember! We’re looking forward to a great morning of competition\, fellowship\, and fun on the green. \nSee you at the tee! \n📍 Location: Hebert Municipal Golf Course | 1121 Mudd Avenue\, Lafayette\, Louisiana 70501 \n⏰ Time: 8:00 AM
URL:https://philadelphiacc.org/event/mens-golf-tournament-passover-2025/
CATEGORIES:Church Events
ATTACH;FMTTYPE=image/jpeg:https://philadelphiacc.org/wp-content/uploads/2025/04/Passover-2025_Golf-Tournament.jpg
END:VEVENT
BEGIN:VEVENT
DTSTART;TZID=UTC:20250418T183000
DTEND;TZID=UTC:20250418T220000
DTSTAMP:20260421T173329
CREATED:20250410T034337Z
LAST-MODIFIED:20250410T034337Z
UID:24953-1745001000-1745013600@philadelphiacc.org
SUMMARY:Ruth The Musical Stage Play
DESCRIPTION:🎉 Mark Your Calendar!📍 Friday\, April 18th @ 7PM | Doors open at 6:30PM🎭 “Ruth: The Musical” – A Live Stage Experience Like No Other!📌 Brought to you by HAA – Hebrew Acting & Arts | Directed by Grace Thibeaux \nBring the whole family for an electrifying musical performance that dives into the powerful biblical story of Ruth! With incredible music\, hilarious moments\, and tear-jerking scenes\, this production will make you laugh\, cry\, and leave full of hope and faith. \n🎤 Amazing vocals. 🎬 Stellar acting. ❤️ A story of redemption that will stick with you long after the curtain falls. \n🎟️ Don’t miss out—this is one Passover event you’ll be talking about for years to come!
URL:https://philadelphiacc.org/event/ruth-the-musical-stage-play/
CATEGORIES:Church Events
ATTACH;FMTTYPE=image/jpeg:https://philadelphiacc.org/wp-content/uploads/2025/04/Ruth-The-Musical-Stage-Play-Date-Time-Address.jpg
END:VEVENT
BEGIN:VEVENT
DTSTART;TZID=UTC:20250419T070000
DTEND;TZID=UTC:20250419T120000
DTSTAMP:20260421T173329
CREATED:20250419T025439Z
LAST-MODIFIED:20250419T025456Z
UID:24961-1745046000-1745064000@philadelphiacc.org
SUMMARY:Black Wall Street Passover 2025
DESCRIPTION:🖤 Black Wall Street | 9AM – April 19th\, 2025 \nSetup Time: 7:00AM – 9:00AM \nStep into a vibrant celebration of culture\, community\, and entrepreneurship at Black Wall Street 🖤 — happening during our Passover 2025 weekend! Join us at 9AM as we highlight and support Black-owned businesses\, creatives\, and entrepreneurs in a powerful display of excellence and unity. \nFrom handcrafted goods to delicious food\, unique services to inspiring networking opportunities — this is a marketplace experience you won’t want to miss. Bring your family\, your friends\, and your support! \nVendor setup begins at 7AM sharp. Let’s build\, connect\, and grow — together.
URL:https://philadelphiacc.org/event/black-wall-street-passover-2025/
CATEGORIES:Church Events
ATTACH;FMTTYPE=image/png:https://philadelphiacc.org/wp-content/uploads/2025/04/Screenshot-2025-04-18-at-4.14.02-PM.png
END:VEVENT
BEGIN:VEVENT
DTSTART;TZID=UTC:20250215T083000
DTEND;TZID=UTC:20250215T120000
DTSTAMP:20260421T173329
CREATED:20250211T215410Z
LAST-MODIFIED:20250221T021838Z
UID:24810-1739608200-1739620800@philadelphiacc.org
SUMMARY:Philadelphia of Dallas Saturday Service
DESCRIPTION:Join us every Saturday Morning for an inspiring and uplifting service at our Dallas location with Pastor Brice Calais! We warmly invite all our Dallas-Fort Worth families to gather with us as we dive deep into the Word of God and grow together in faith and fellowship. \n📅 When: Saturdays at 8:30AM\n📍 Where: 3269 Independence Pkwy\, Plano\, TX \nCome expecting powerful teaching\, meaningful discussion\, and a welcoming community. Whether you’re new or have been with us for a while\, there’s always a place for you. Don’t miss out—see you this Saturday!
URL:https://philadelphiacc.org/event/philadelphia-of-dallas-saturday-service/
CATEGORIES:Church Events
ATTACH;FMTTYPE=image/jpeg:https://philadelphiacc.org/wp-content/uploads/2025/02/NEW-DAY-TIME-DALLAS-NOW.jpg
END:VEVENT
BEGIN:VEVENT
DTSTART;TZID=UTC:20240928T093000
DTEND;TZID=UTC:20240928T120000
DTSTAMP:20260421T173329
CREATED:20240926T223832Z
LAST-MODIFIED:20240926T223832Z
UID:24529-1727515800-1727524800@philadelphiacc.org
SUMMARY:Join Us Live in Atlanta Every Saturday Morning!
DESCRIPTION:Start your weekend in a meaningful way by joining us at Philadelphia Christian Church of Atlanta for our live Saturday morning services at 9:30 AM. It’s a perfect time to gather with family and friends to worship\, connect\, and grow in faith together. \nOur services feature uplifting worship\, powerful sermons\, and a welcoming community that’s excited to embrace new members and guests alike. Whether you’re a lifelong churchgoer or looking to explore your faith for the first time\, you’ll find a home with us. \nWhere: 1151 Hammond Dr. NE\, Atlanta\, GA 30346 \nWhen: Every Saturday at 9:30 AM \nCome and experience the warmth and spirit of our community. We look forward to seeing you there!
URL:https://philadelphiacc.org/event/join-us-live-in-atlanta-every-saturday-morning/
CATEGORIES:Church Events
ATTACH;FMTTYPE=image/jpeg:https://philadelphiacc.org/wp-content/uploads/2024/09/NEW-Philadelphia-LOCATION-ATL-SAT-PROMO-scaled.jpg
END:VEVENT
BEGIN:VEVENT
DTSTART;TZID=UTC:20250405T173000
DTEND;TZID=UTC:20250406T173000
DTSTAMP:20260421T173329
CREATED:20250304T214726Z
LAST-MODIFIED:20250401T212102Z
UID:24830-1743874200-1743960600@philadelphiacc.org
SUMMARY:Lunar Sabbath Calendar Observation 🌙
DESCRIPTION:Join us for a sacred time of rest and worship\, as we honor the Lunar Sabbath according to the lunar cycle. The next Shabbat begins at sunset on Saturday April 5th and concludes at sunset on Sunday\, April 6th\, for 4 weeks. \nThis is a divine time set apart for reflection\, worship\, and renewal as we align ourselves with the natural rhythm of God’s creation. \nTake this opportunity to rest\, reconnect with God\, and experience peace in His presence. \n📅 Shabbat Dates: \n🕰️ From: Sunset\, Saturday 4/5  🕰️ Until: Sunset\, Sunday 4/6 \n🕰️ From: Sunset\, Saturday 4/12  🕰️ Until: Sunset\, Sunday 4/13 \n🕰️ From: Sunset\, Saturday 4/19  🕰️ Until: Sunset\, Sunday 4/20 \n🕰️ From: Sunset\, Saturday 4/26  🕰️ Until: Sunset\, Sunday 4/27 \n 
URL:https://philadelphiacc.org/event/lunar-sabbath-calendar-observation-%f0%9f%8c%99-2-2/
CATEGORIES:Church Events
ATTACH;FMTTYPE=image/jpeg:https://philadelphiacc.org/wp-content/uploads/2025/03/Shabbat-April-scaled.jpg
END:VEVENT
BEGIN:VEVENT
DTSTART;TZID=UTC:20250419T180000
DTEND;TZID=UTC:20250419T210000
DTSTAMP:20260421T173329
CREATED:20250419T030216Z
LAST-MODIFIED:20250419T030216Z
UID:24965-1745085600-1745096400@philadelphiacc.org
SUMMARY:Singles Social Night + Game Night
DESCRIPTION:🎲 Singles Social + Game Night📅 Saturday\, April 19th\, 2025🕕 6:00 PM\n \nGet ready for a night full of laughter\, connection\, and friendly competition! Join us for our Singles Social + Game Night — a fun and relaxed evening designed for singles to meet\, mingle\, and enjoy great vibes during Passover 2025. \nWhether you’re in it for the games\, the conversations\, or maybe even to spark something new 👀 — this night is the perfect blend of fun and fellowship. Expect interactive games\, group challenges\, and lots of chances to make new connections! \nCome ready to laugh\, vibe\, and maybe meet someone special. Let the games begin!
URL:https://philadelphiacc.org/event/singles-social-night-game-night/
CATEGORIES:Church Events
ATTACH;FMTTYPE=image/png:https://philadelphiacc.org/wp-content/uploads/2025/04/Screenshot-2025-04-18-at-4.50.05-PM.png
END:VEVENT
BEGIN:VEVENT
DTSTART;TZID=UTC:20241001T190000
DTEND;TZID=UTC:20241001T210000
DTSTAMP:20260421T173329
CREATED:20240926T224944Z
LAST-MODIFIED:20240926T224944Z
UID:24533-1727809200-1727816400@philadelphiacc.org
SUMMARY:Tuesday Night Bible Study Lafayette
DESCRIPTION:We warmly invite all local families to gather with us every Tuesday night at 7 PM for an in-person Bible Study that will uplift and recharge your spirit. This is a special time to connect with the body of Christ and dive deep into God’s Word to receive the guidance you need for the rest of your week! \nPlease Note: Tuesday Night Bible Studies are NOT live-streamed\, so be sure to join us in person to experience the power and fellowship together! \nWe can’t wait to see you there!
URL:https://philadelphiacc.org/event/tuesday-night-bible-study-lafayette/
CATEGORIES:Church Events
ATTACH;FMTTYPE=image/jpeg:https://philadelphiacc.org/wp-content/uploads/2024/09/Tuesday-Bible-Study-Lafayette.jpg
END:VEVENT
BEGIN:VEVENT
DTSTART;TZID=UTC:20250410T190000
DTEND;TZID=UTC:20250410T220000
DTSTAMP:20260421T173329
CREATED:20250401T213353Z
LAST-MODIFIED:20250409T210913Z
UID:24920-1744311600-1744322400@philadelphiacc.org
SUMMARY:Philadelphia of Houston Thursday Night Bible Study
DESCRIPTION:📖 Thursday Night Bible Study – Philadelphia of HoustonJoin us every Thursday at 7PM for an in-depth\, spirit-filled Bible Study at our Philadelphia of Houston location! \nCome ready to grow in the Word\, build community\, and experience powerful teaching that will strengthen your walk with God. Whether you’re new to the faith or looking to go deeper\, there’s a seat for you. \n📍 12155 Shadow Creek Pkwy\, Pearland\, TX 77584🕖 Every Thursday | 7:00PM \nBring your Bible\, bring a friend\, and come expecting!
URL:https://philadelphiacc.org/event/philadelphia-of-houston-bible-study/
CATEGORIES:Church Events
ATTACH;FMTTYPE=image/jpeg:https://philadelphiacc.org/wp-content/uploads/2025/04/Philadelphia-Of-Houston-2-Thursday-Nights-scaled.jpg
END:VEVENT
BEGIN:VEVENT
DTSTART;TZID=UTC:20250215T083000
DTEND;TZID=UTC:20250215T120000
DTSTAMP:20260421T173329
CREATED:20250211T215410Z
LAST-MODIFIED:20250221T021838Z
UID:24810-1739608200-1739620800@philadelphiacc.org
SUMMARY:Philadelphia of Dallas Saturday Service
DESCRIPTION:Join us every Saturday Morning for an inspiring and uplifting service at our Dallas location with Pastor Brice Calais! We warmly invite all our Dallas-Fort Worth families to gather with us as we dive deep into the Word of God and grow together in faith and fellowship. \n📅 When: Saturdays at 8:30AM\n📍 Where: 3269 Independence Pkwy\, Plano\, TX \nCome expecting powerful teaching\, meaningful discussion\, and a welcoming community. Whether you’re new or have been with us for a while\, there’s always a place for you. Don’t miss out—see you this Saturday!
URL:https://philadelphiacc.org/event/philadelphia-of-dallas-saturday-service/
CATEGORIES:Church Events
ATTACH;FMTTYPE=image/jpeg:https://philadelphiacc.org/wp-content/uploads/2025/02/NEW-DAY-TIME-DALLAS-NOW.jpg
END:VEVENT
BEGIN:VEVENT
DTSTART;TZID=UTC:20240928T093000
DTEND;TZID=UTC:20240928T120000
DTSTAMP:20260421T173329
CREATED:20240926T223832Z
LAST-MODIFIED:20240926T223832Z
UID:24529-1727515800-1727524800@philadelphiacc.org
SUMMARY:Join Us Live in Atlanta Every Saturday Morning!
DESCRIPTION:Start your weekend in a meaningful way by joining us at Philadelphia Christian Church of Atlanta for our live Saturday morning services at 9:30 AM. It’s a perfect time to gather with family and friends to worship\, connect\, and grow in faith together. \nOur services feature uplifting worship\, powerful sermons\, and a welcoming community that’s excited to embrace new members and guests alike. Whether you’re a lifelong churchgoer or looking to explore your faith for the first time\, you’ll find a home with us. \nWhere: 1151 Hammond Dr. NE\, Atlanta\, GA 30346 \nWhen: Every Saturday at 9:30 AM \nCome and experience the warmth and spirit of our community. We look forward to seeing you there!
URL:https://philadelphiacc.org/event/join-us-live-in-atlanta-every-saturday-morning/
CATEGORIES:Church Events
ATTACH;FMTTYPE=image/jpeg:https://philadelphiacc.org/wp-content/uploads/2024/09/NEW-Philadelphia-LOCATION-ATL-SAT-PROMO-scaled.jpg
END:VEVENT
BEGIN:VEVENT
DTSTART;TZID=UTC:20250405T173000
DTEND;TZID=UTC:20250406T173000
DTSTAMP:20260421T173329
CREATED:20250304T214726Z
LAST-MODIFIED:20250401T212102Z
UID:24830-1743874200-1743960600@philadelphiacc.org
SUMMARY:Lunar Sabbath Calendar Observation 🌙
DESCRIPTION:Join us for a sacred time of rest and worship\, as we honor the Lunar Sabbath according to the lunar cycle. The next Shabbat begins at sunset on Saturday April 5th and concludes at sunset on Sunday\, April 6th\, for 4 weeks. \nThis is a divine time set apart for reflection\, worship\, and renewal as we align ourselves with the natural rhythm of God’s creation. \nTake this opportunity to rest\, reconnect with God\, and experience peace in His presence. \n📅 Shabbat Dates: \n🕰️ From: Sunset\, Saturday 4/5  🕰️ Until: Sunset\, Sunday 4/6 \n🕰️ From: Sunset\, Saturday 4/12  🕰️ Until: Sunset\, Sunday 4/13 \n🕰️ From: Sunset\, Saturday 4/19  🕰️ Until: Sunset\, Sunday 4/20 \n🕰️ From: Sunset\, Saturday 4/26  🕰️ Until: Sunset\, Sunday 4/27 \n 
URL:https://philadelphiacc.org/event/lunar-sabbath-calendar-observation-%f0%9f%8c%99-2-2/
CATEGORIES:Church Events
ATTACH;FMTTYPE=image/jpeg:https://philadelphiacc.org/wp-content/uploads/2025/03/Shabbat-April-scaled.jpg
END:VEVENT
BEGIN:VEVENT
DTSTART;TZID=UTC:20241001T190000
DTEND;TZID=UTC:20241001T210000
DTSTAMP:20260421T173329
CREATED:20240926T224944Z
LAST-MODIFIED:20240926T224944Z
UID:24533-1727809200-1727816400@philadelphiacc.org
SUMMARY:Tuesday Night Bible Study Lafayette
DESCRIPTION:We warmly invite all local families to gather with us every Tuesday night at 7 PM for an in-person Bible Study that will uplift and recharge your spirit. This is a special time to connect with the body of Christ and dive deep into God’s Word to receive the guidance you need for the rest of your week! \nPlease Note: Tuesday Night Bible Studies are NOT live-streamed\, so be sure to join us in person to experience the power and fellowship together! \nWe can’t wait to see you there!
URL:https://philadelphiacc.org/event/tuesday-night-bible-study-lafayette/
CATEGORIES:Church Events
ATTACH;FMTTYPE=image/jpeg:https://philadelphiacc.org/wp-content/uploads/2024/09/Tuesday-Bible-Study-Lafayette.jpg
END:VEVENT
END:VCALENDAR