BEGIN:VCALENDAR
VERSION:2.0
PRODID:-//Philadelphia Christian - ECPv6.15.10//NONSGML v1.0//EN
CALSCALE:GREGORIAN
METHOD:PUBLISH
X-WR-CALNAME:Philadelphia Christian
X-ORIGINAL-URL:https://philadelphiacc.org
X-WR-CALDESC:Events for Philadelphia Christian
REFRESH-INTERVAL;VALUE=DURATION:PT1H
X-Robots-Tag:noindex
X-PUBLISHED-TTL:PT1H
BEGIN:VTIMEZONE
TZID:UTC
BEGIN:STANDARD
TZOFFSETFROM:+0000
TZOFFSETTO:+0000
TZNAME:UTC
DTSTART:20240101T000000
END:STANDARD
END:VTIMEZONE
BEGIN:VEVENT
DTSTART;TZID=UTC:20250728T190000
DTEND;TZID=UTC:20250728T210000
DTSTAMP:20260421T232808
CREATED:20250724T004659Z
LAST-MODIFIED:20250724T004659Z
UID:25050-1753729200-1753736400@philadelphiacc.org
SUMMARY:Avoice X Bizzle Music Video Shoot
DESCRIPTION:🎬 Mark Your Calendars: July 28th – Community Music Video Shoot! \nGet ready for something big! On MONDAY\, July 28th\, join Avoice PMG and Bizzle of God Over Money (GOM) for an exciting music video shoot — and you’re invited to be part of it! \n📍 Location: Northside High School – Lafayette\, LA 🕒 Time: 7PM-9PM🎥 Open to the entire community — come be part of a powerful moment of unity\, creativity\, and impact. \n🙌 We need EVERYONE to show up and show out!🎤 A rare opportunity to see Bizzle live🎁 Giveaways throughout the day🌮 Food trucks may be on-site💥 Let’s represent the Kingdom in a BIG way! \nDon’t miss this opportunity to be part of something special — bring your energy\, your smile\, and your community spirit!
URL:https://philadelphiacc.org/event/avoice-x-bizzle-music-video-shoot/
CATEGORIES:Church Events
ATTACH;FMTTYPE=image/jpeg:https://philadelphiacc.org/wp-content/uploads/2025/07/364554758262463684.jpg
END:VEVENT
END:VCALENDAR