BEGIN:VCALENDAR
VERSION:2.0
PRODID:-//Philadelphia Christian - ECPv6.15.10//NONSGML v1.0//EN
CALSCALE:GREGORIAN
METHOD:PUBLISH
X-ORIGINAL-URL:https://philadelphiacc.org
X-WR-CALDESC:Events for Philadelphia Christian
REFRESH-INTERVAL;VALUE=DURATION:PT1H
X-Robots-Tag:noindex
X-PUBLISHED-TTL:PT1H
BEGIN:VTIMEZONE
TZID:UTC
BEGIN:STANDARD
TZOFFSETFROM:+0000
TZOFFSETTO:+0000
TZNAME:UTC
DTSTART:20240101T000000
END:STANDARD
END:VTIMEZONE
BEGIN:VEVENT
DTSTART;TZID=UTC:20250720T081000
DTEND;TZID=UTC:20250720T085000
DTSTAMP:20260422T005729
CREATED:20250607T004204Z
LAST-MODIFIED:20250719T010914Z
UID:25005-1752999000-1753001400@philadelphiacc.org
SUMMARY:Discipleship Training Classes
DESCRIPTION:We’re excited to announce the return of DT Discipleship Training Classes Sundays July 20th thru August 17th. These classes are designed to equip\, empower\, and strengthen believers in their spiritual journey. Whether you’re discovering your spiritual gifts\, deepening your prayer life\, or learning how to walk faithfully with God\, there’s a class for you! \nClass Offerings: \nSpiritual Gifts Class \nYou Can Win ‘Em… \nAnd More… \nKids 4-6yrs \nKids 7-11yrs \nYouth 12-17yrs \n 
URL:https://philadelphiacc.org/event/discipleship-training-classes-2-2/
CATEGORIES:Church Events
ATTACH;FMTTYPE=image/jpeg:https://philadelphiacc.org/wp-content/uploads/2025/06/NEW-DT-CLASS-TITLES-JULY-AUG-2025-scaled.jpg
END:VEVENT
END:VCALENDAR