BEGIN:VCALENDAR
VERSION:2.0
PRODID:-//Philadelphia Christian - ECPv6.15.10//NONSGML v1.0//EN
CALSCALE:GREGORIAN
METHOD:PUBLISH
X-ORIGINAL-URL:https://philadelphiacc.org
X-WR-CALDESC:Events for Philadelphia Christian
REFRESH-INTERVAL;VALUE=DURATION:PT1H
X-Robots-Tag:noindex
X-PUBLISHED-TTL:PT1H
BEGIN:VTIMEZONE
TZID:UTC
BEGIN:STANDARD
TZOFFSETFROM:+0000
TZOFFSETTO:+0000
TZNAME:UTC
DTSTART:20240101T000000
END:STANDARD
END:VTIMEZONE
BEGIN:VEVENT
DTSTART;TZID=UTC:20250702T193000
DTEND;TZID=UTC:20250703T193000
DTSTAMP:20260422T010417
CREATED:20250528T214742Z
LAST-MODIFIED:20250625T012121Z
UID:25000-1751484600-1751571000@philadelphiacc.org
SUMMARY:Lunar Sabbath Calendar Observation 🌙
DESCRIPTION:Join us for a sacred time of rest and worship\, as we honor the Lunar Sabbath according to the lunar cycle. The next Shabbat begins at sunset on Wednesday July 2nd and concludes at sunset on Thursday July 3rd\, for 4 weeks. \nThis is a divine time set apart for reflection\, worship\, and renewal as we align ourselves with the natural rhythm of God’s creation. \nTake this opportunity to rest\, reconnect with God\, and experience peace in His presence. \n📅 Shabbat Dates: \n🕰️ From: Sunset\, Wednesday 7/2 🕰️ Until: Sunset\, Thursday 7/3 \n🕰️ From: Sunset\, Wednesday 7/9 🕰️ Until: Sunset\, Thursday 7/10 \n🕰️ From: Sunset\, Wednesday 7/16 🕰️ Until: Sunset\, Thursday 7/17 \n🕰️ From: Sunset\, Wednesday 7/23 🕰️ Until: Sunset\, Thursday 7/24 \n  \n 
URL:https://philadelphiacc.org/event/lunar-sabbath-calendar-observation-%f0%9f%8c%99-2-2-2-2/
CATEGORIES:Church Events
ATTACH;FMTTYPE=image/jpeg:https://philadelphiacc.org/wp-content/uploads/2025/05/Shabbat-July-scaled.jpg
END:VEVENT
END:VCALENDAR