BEGIN:VCALENDAR
VERSION:2.0
PRODID:-//Philadelphia Christian - ECPv6.15.10//NONSGML v1.0//EN
CALSCALE:GREGORIAN
METHOD:PUBLISH
X-ORIGINAL-URL:https://philadelphiacc.org
X-WR-CALDESC:Events for Philadelphia Christian
REFRESH-INTERVAL;VALUE=DURATION:PT1H
X-Robots-Tag:noindex
X-PUBLISHED-TTL:PT1H
BEGIN:VTIMEZONE
TZID:UTC
BEGIN:STANDARD
TZOFFSETFROM:+0000
TZOFFSETTO:+0000
TZNAME:UTC
DTSTART:20240101T000000
END:STANDARD
END:VTIMEZONE
BEGIN:VEVENT
DTSTART;TZID=UTC:20250504T193000
DTEND;TZID=UTC:20250505T193000
DTSTAMP:20260421T201958
CREATED:20250503T194616Z
LAST-MODIFIED:20250503T194728Z
UID:24986-1746387000-1746473400@philadelphiacc.org
SUMMARY:Lunar Sabbath Calendar Observation 🌙
DESCRIPTION:Join us for a sacred time of rest and worship\, as we honor the Lunar Sabbath according to the lunar cycle. The next Shabbat begins at sunset on Sunday May 4th and concludes at sunset on Monday\, May 5th\, for 4 weeks. \nThis is a divine time set apart for reflection\, worship\, and renewal as we align ourselves with the natural rhythm of God’s creation. \nTake this opportunity to rest\, reconnect with God\, and experience peace in His presence. \n📅 Shabbat Dates: \n🕰️ From: Sunset\, Sunday 5/4  🕰️ Until: Sunset\, Monday 5/5 \n🕰️ From: Sunset\, Sunday 5/11  🕰️ Until: Sunset\, Monday 5/12 \n🕰️ From: Sunset\, Sunday 5/18  🕰️ Until: Sunset\, Monday 5/19 \n🕰️ From: Sunset\, Sunday 5/25  🕰️ Until: Sunset\, Monday 5/26 \n 
URL:https://philadelphiacc.org/event/lunar-sabbath-calendar-observation-%f0%9f%8c%99-2-2-2/
CATEGORIES:Church Events
ATTACH;FMTTYPE=image/jpeg:https://philadelphiacc.org/wp-content/uploads/2025/03/Shabbat-May-scaled.jpg
END:VEVENT
END:VCALENDAR