BEGIN:VCALENDAR
VERSION:2.0
PRODID:-//Philadelphia Christian - ECPv6.15.10//NONSGML v1.0//EN
CALSCALE:GREGORIAN
METHOD:PUBLISH
X-WR-CALNAME:Philadelphia Christian
X-ORIGINAL-URL:https://philadelphiacc.org
X-WR-CALDESC:Events for Philadelphia Christian
REFRESH-INTERVAL;VALUE=DURATION:PT1H
X-Robots-Tag:noindex
X-PUBLISHED-TTL:PT1H
BEGIN:VTIMEZONE
TZID:UTC
BEGIN:STANDARD
TZOFFSETFROM:+0000
TZOFFSETTO:+0000
TZNAME:UTC
DTSTART:20240101T000000
END:STANDARD
END:VTIMEZONE
BEGIN:VEVENT
DTSTART;VALUE=DATE:20250312
DTEND;VALUE=DATE:20250315
DTSTAMP:20260421T171605
CREATED:20250116T015929Z
LAST-MODIFIED:20250204T021525Z
UID:24751-1741737600-1741996799@philadelphiacc.org
SUMMARY:4th Annual Purim Celebration 2025
DESCRIPTION:4th Annual Purim Celebration 2025 \nJoin us for our 4th Annual Purim Celebration\, a joyous time of worship\, reflection\, and giving as we honor the faithfulness of Yah and the victory He gave His people through Queen Esther’s courage. This year’s Purim events will take place from March 12-14\, and we have something special planned for everyone. \nPurim Week Events\n📅 March 12 – Feed the Block\nJoin us as we demonstrate the love of Yah by giving back to our community. Together\, we’ll serve and share a blessed plate lunch meal to anyone that drives by our parking lot. \n📅 March 13 – Bible Study\nDive deep into the story of Esther and the significance of Purim during our special Bible Study session. \n📅 March 14 – Worship Night\nCome together for a powerful night of worship as we lift our voices in gratitude to Yah for His faithfulness and deliverance. \nCelebrate Purim with Us\nWhether you join us in person or online\, let’s unite in remembrance\, reflection\, and rejoicing. Mark your calendars and invite your family and friends to be part of this meaningful celebration. \n📍 Location: Philadelphia Christian Church\n📲 Stay Connected: Download the PCC App on Apple & Android for updates. \nLet’s come together as a community to celebrate Purim 2025!
URL:https://philadelphiacc.org/event/4th-annual-purim-celebration-2025/
CATEGORIES:Church Events
ATTACH;FMTTYPE=image/jpeg:https://philadelphiacc.org/wp-content/uploads/2025/01/Purim-Celebration-2025.jpg
END:VEVENT
END:VCALENDAR