BEGIN:VCALENDAR
VERSION:2.0
PRODID:-//Philadelphia Christian - ECPv6.15.10//NONSGML v1.0//EN
CALSCALE:GREGORIAN
METHOD:PUBLISH
X-ORIGINAL-URL:https://philadelphiacc.org
X-WR-CALDESC:Events for Philadelphia Christian
REFRESH-INTERVAL;VALUE=DURATION:PT1H
X-Robots-Tag:noindex
X-PUBLISHED-TTL:PT1H
BEGIN:VTIMEZONE
TZID:UTC
BEGIN:STANDARD
TZOFFSETFROM:+0000
TZOFFSETTO:+0000
TZNAME:UTC
DTSTART:20240101T000000
END:STANDARD
END:VTIMEZONE
BEGIN:VEVENT
DTSTART;TZID=UTC:20250223T080000
DTEND;TZID=UTC:20250223T085000
DTSTAMP:20260421T171705
CREATED:20250214T024628Z
LAST-MODIFIED:20250306T234200Z
UID:24817-1740297600-1740300600@philadelphiacc.org
SUMMARY:Discipleship Training Classes
DESCRIPTION:We’re excited to announce the return of DT Discipleship Training Classes next Sunday\, February 23rd through March 23rd! These classes are designed to equip\, empower\, and strengthen believers in their spiritual journey. Whether you’re discovering your spiritual gifts\, deepening your prayer life\, or learning how to walk faithfully with God\, there’s a class for you! \nClass Offerings: \n📖 Spiritual Gifts – Taught by Deacon James Malveaux \nDiscover the unique gifts God has placed within you and learn how to use them for His glory. \n🙏 Intercessory & Personal Prayer – Taught by Deacon Karl Bernard \nStrengthen your prayer life and learn the power of standing in the gap for others through intercessory prayer. \n🔥 Living for God – Taught by Deacon Brandon Thomas \nPractical teaching on how to live a victorious Christian life\, staying committed to God in every season. \n👧 Kids & Youth Classes: \nAges 4-6 with Mary Batiste \nAges 7-11 with Tara Thibeaux \nAges 12-17 with Deaconess Shaylonda Thorn \nDon’t miss this opportunity to grow in faith\, deepen your understanding\, and connect with fellow believers! See you next Sunday!
URL:https://philadelphiacc.org/event/discipleship-training-classes-2/
CATEGORIES:Church Events
ATTACH;FMTTYPE=image/jpeg:https://philadelphiacc.org/wp-content/uploads/2025/02/NEW-DT-CLASSES-MARCH-2025-scaled.jpg
END:VEVENT
END:VCALENDAR