BEGIN:VCALENDAR
VERSION:2.0
PRODID:-//Philadelphia Christian - ECPv6.15.10//NONSGML v1.0//EN
CALSCALE:GREGORIAN
METHOD:PUBLISH
X-ORIGINAL-URL:https://philadelphiacc.org
X-WR-CALDESC:Events for Philadelphia Christian
REFRESH-INTERVAL;VALUE=DURATION:PT1H
X-Robots-Tag:noindex
X-PUBLISHED-TTL:PT1H
BEGIN:VTIMEZONE
TZID:UTC
BEGIN:STANDARD
TZOFFSETFROM:+0000
TZOFFSETTO:+0000
TZNAME:UTC
DTSTART:20240101T000000
END:STANDARD
END:VTIMEZONE
BEGIN:VEVENT
DTSTART;TZID=UTC:20250205T173000
DTEND;TZID=UTC:20250206T173000
DTSTAMP:20260421T171735
CREATED:20250125T011651Z
LAST-MODIFIED:20250125T011651Z
UID:24773-1738776600-1738863000@philadelphiacc.org
SUMMARY:Lunar Sabbath Calendar Observation 🌙
DESCRIPTION:Join us for a sacred time of rest and worship\, as we honor the Lunar Sabbath according to the lunar cycle. The next Shabbat begins at sunset on Wednesday\, February 5th\, and concludes at sunset on Thursday\, February 6th\, for 4 weeks. \nThis is a divine time set apart for reflection\, worship\, and renewal as we align ourselves with the natural rhythm of God’s creation. \nTake this opportunity to rest\, reconnect with God\, and experience peace in His presence. \n📅 Shabbat Dates: \n🕰️ From: Sunset\, Wednesday 2/5  🕰️ Until: Sunset\, Thursday 2/6 \n🕰️ From: Sunset\, Wednesday 2/12  🕰️ Until: Sunset\, Thursday 2/13 \n🕰️ From: Sunset\, Wednesday 2/19  🕰️ Until: Sunset\, Thursday 2/20 \n🕰️ From: Sunset\, Wednesday 2/26  🕰️ Until: Sunset\, Thursday 2/27 \n 
URL:https://philadelphiacc.org/event/lunar-sabbath-calendar-observation-%f0%9f%8c%99-2/
CATEGORIES:Church Events
ATTACH;FMTTYPE=image/jpeg:https://philadelphiacc.org/wp-content/uploads/2025/01/Shabbat-February-scaled.jpg
END:VEVENT
END:VCALENDAR