BEGIN:VCALENDAR
VERSION:2.0
PRODID:-//Philadelphia Christian - ECPv6.15.10//NONSGML v1.0//EN
CALSCALE:GREGORIAN
METHOD:PUBLISH
X-WR-CALNAME:Philadelphia Christian
X-ORIGINAL-URL:https://philadelphiacc.org
X-WR-CALDESC:Events for Philadelphia Christian
REFRESH-INTERVAL;VALUE=DURATION:PT1H
X-Robots-Tag:noindex
X-PUBLISHED-TTL:PT1H
BEGIN:VTIMEZONE
TZID:UTC
BEGIN:STANDARD
TZOFFSETFROM:+0000
TZOFFSETTO:+0000
TZNAME:UTC
DTSTART:20240101T000000
END:STANDARD
END:VTIMEZONE
BEGIN:VEVENT
DTSTART;TZID=UTC:20250112T080000
DTEND;TZID=UTC:20250112T085000
DTSTAMP:20260421T160301
CREATED:20250110T020749Z
LAST-MODIFIED:20250110T021732Z
UID:24735-1736668800-1736671800@philadelphiacc.org
SUMMARY:Discipleship Training Classes
DESCRIPTION:Discipleship Training Classes \nWe’re excited to announce the start of our Discipleship Training (DT) Classes on Sunday mornings from January 12th through February 9th\, 8:10 AM – 8:55 AM CST. These classes are designed to help you grow spiritually\, strengthen your walk with God\, and equip you for life’s journey. There’s something for everyone! \nClasses Offered:\n🌟 Marriage Like Ephesus\nLed by Min. Sam & Deaconess Leola\, discover biblical principles for building a marriage rooted in love\, respect\, and Christ. \n💰 How to Be a Good Steward: Budgeting 101\nLed by Sabrina & Karen\, learn practical and biblical approaches to managing your finances wisely. \n🆕 New Members Class\nLed by Min. Frankie\, this class is essential for those looking to join the PCC family and grow as part of our faith community. \n❤️ Matters of the Heart\nLed by Deacon Darius Moore\, explore emotional healing\, forgiveness\, and aligning your heart with God’s will. \n🌈 Kids & Youth Classes \n\nKids (Ages 4-6)\nYouth (Ages 7-11)\nYouth (Ages 12-17)\nEngaging\, age-appropriate lessons to help our young disciples learn and grow in their faith.
URL:https://philadelphiacc.org/event/discipleship-training-classes/
CATEGORIES:Church Events
ATTACH;FMTTYPE=image/jpeg:https://philadelphiacc.org/wp-content/uploads/2025/01/NEW-DT-CLASSES-JAN-2025-scaled.jpg
END:VEVENT
END:VCALENDAR