BEGIN:VCALENDAR
VERSION:2.0
PRODID:-//Philadelphia Christian - ECPv6.15.10//NONSGML v1.0//EN
CALSCALE:GREGORIAN
METHOD:PUBLISH
X-WR-CALNAME:Philadelphia Christian
X-ORIGINAL-URL:https://philadelphiacc.org
X-WR-CALDESC:Events for Philadelphia Christian
REFRESH-INTERVAL;VALUE=DURATION:PT1H
X-Robots-Tag:noindex
X-PUBLISHED-TTL:PT1H
BEGIN:VTIMEZONE
TZID:UTC
BEGIN:STANDARD
TZOFFSETFROM:+0000
TZOFFSETTO:+0000
TZNAME:UTC
DTSTART:20230101T000000
END:STANDARD
END:VTIMEZONE
BEGIN:VEVENT
DTSTART;TZID=UTC:20241009T185400
DTEND;TZID=UTC:20241010T185400
DTSTAMP:20260422T164102
CREATED:20241009T233622Z
LAST-MODIFIED:20241010T000746Z
UID:24598-1728500040-1728586440@philadelphiacc.org
SUMMARY:Lunar Sabbath Calendar - October 2024
DESCRIPTION:Lunar Sabbath Calendar Observation 🌙 \nJoin us for a sacred time of rest and worship\, as we honor the Lunar Sabbath according to the lunar cycle. The next Shabbat begins at sunset on Wednesday\, October 9th\, and concludes at sunset on Thursday\, October 10th for 4 weeks. \nThis is a divine time set apart for reflection\, worship\, and renewal as we align ourselves with the natural rhythm of God’s creation. \nTake this opportunity to rest\, reconnect with God\, and experience peace in His presence. \n📅 Shabbat Dates:\n🕰️ From: Sunset\, Wednesday\, 10/9\n🕰️ Until: Sunset\, Thursday\, 10/10\n🕰️ From: Sunset\, Wednesday\, 10/16\n🕰️ Until: Sunset\, Thursday\, 10/17\n🕰️ From: Sunset\, Wednesday\, 10/23\n🕰️ Until: Sunset\, Thursday\, 10/24\n🕰️ From: Sunset\, Wednesday\, 10/30\n🕰️ Until: Sunset\, Thursday\, 10/31
URL:https://philadelphiacc.org/event/lunar-sabbath-calendar-october-9-10/
ATTACH;FMTTYPE=image/jpeg:https://philadelphiacc.org/wp-content/uploads/2024/10/Shabbat-October-2024-scaled.jpg
END:VEVENT
END:VCALENDAR